BEGIN:VCALENDAR
VERSION:2.0
PRODID:-//eventon.com NONSGML v1.0//EN
CALSCALE:GREGORIAN
METHOD:PUBLISH
BEGIN:VEVENT
UID:69e5e6fc5983e
DTSTAMP:20260420T084236Z
DTSTART:20231126T200000Z
DTEND:20231126T230000Z
LOCATION:Dojo de Neuville 8 allée des sports
SUMMARY:Championnat District Minime
DESCRIPTION:Dimanche 26 novembre Allée des sports\,  dojo de Neuville en F
 errain Pesée à 9h Sélection: Emile\,  Gauthier\,  Hippolyte\,  Iyad\,  E
 than\,  Naïla et Laïla\nhttps://www.judo-croix.fr/detail-dun-evenement/ch
 ampionnat-district-minime-2/
URL:https://www.judo-croix.fr/detail-dun-evenement/championnat-district-minime-2/
END:VEVENT
END:VCALENDAR