BEGIN:VCALENDAR
VERSION:2.0
PRODID:-//eventon.com NONSGML v1.0//EN
CALSCALE:GREGORIAN
METHOD:PUBLISH
BEGIN:VEVENT
UID:69e61c445d8bb
DTSTAMP:20260420T122956Z
DTSTART:20231105T000000Z
DTEND:20231105T050000Z
LOCATION:Dojo rue Lescouvé 80000 Amiens
SUMMARY:Test KATA
DESCRIPTION:\nhttps://www.judo-croix.fr/detail-dun-evenement/test-kata/
URL:https://www.judo-croix.fr/detail-dun-evenement/test-kata/
END:VEVENT
END:VCALENDAR