BEGIN:VCALENDAR
VERSION:2.0
PRODID:-//eventon.com NONSGML v1.0//EN
CALSCALE:GREGORIAN
METHOD:PUBLISH
BEGIN:VEVENT
UID:69e5e23f5de98
DTSTAMP:20260420T082223Z
DTSTART:20230902T210000Z
DTEND:20230903T040000Z
LOCATION:Salle des fêtes G. Dedecker 23 rue Jean Jaures à Croix
SUMMARY:Forum des associations et inscription
DESCRIPTION:Informations sur nos activités proposées et inscription. Vene
 z nombreux !\nhttps://www.judo-croix.fr/detail-dun-evenement/forum-des-asso
 ciations-et-inscription/
URL:https://www.judo-croix.fr/detail-dun-evenement/forum-des-associations-et-inscription/
END:VEVENT
END:VCALENDAR