BEGIN:VCALENDAR
VERSION:2.0
PRODID:-//eventon.com NONSGML v1.0//EN
CALSCALE:GREGORIAN
METHOD:PUBLISH
BEGIN:VEVENT
UID:69ed100dc1a38
DTSTAMP:20260425T190341Z
DTSTART:20221016T200000Z
DTEND:20221016T230000Z
LOCATION:Neuville en Ferrain Dojo Pierre Myter\,  allée des sports
SUMMARY:District Benjamin 1ère journée
DESCRIPTION:Pesée de 9h à 9h30 Dojo\,  8 allée des sports à Neuville en
  Ferrain Attention: se munir de son passeport de judo\nhttps://www.judo-cro
 ix.fr/detail-dun-evenement/district-benjamin-1ere-journee-2/
URL:https://www.judo-croix.fr/detail-dun-evenement/district-benjamin-1ere-journee-2/
END:VEVENT
END:VCALENDAR