BEGIN:VCALENDAR
VERSION:2.0
PRODID:-//eventon.com NONSGML v1.0//EN
CALSCALE:GREGORIAN
METHOD:PUBLISH
BEGIN:VEVENT
UID:69e917ab98d81
DTSTAMP:20260422T184707Z
DTSTART:20180219T181500Z
DTEND:20180219T193000Z
LOCATION:Dojo de Croix\,  stade Henri Seigneur Stade Henri Seigneur\,  boulevard Emile Zola\,  59170 Croix
SUMMARY:Cours Famille 6/7ans
DESCRIPTION:Sortez vos survêtements et préparez-vous à monter sur le tat
 ami avec vos enfants pour découvrir tout ce qu&rsquo;ils ont appris depuis
  le début de la saison. Mathieu vous attend sur les tatami ou la bonne hum
 eur sera au rendez-vous !!!!\nhttps://www.judo-croix.fr/detail-dun-evenemen
 t/cours-famille-6-7ans/
URL:https://www.judo-croix.fr/detail-dun-evenement/cours-famille-6-7ans/
END:VEVENT
END:VCALENDAR